BEGIN:VCALENDAR
METHOD:PUBLISH
PRODID:www-dhss-phil-fau-eu//Events//EN
VERSION:2.0
BEGIN:VEVENT
SUMMARY:Guest Lecture // Richard Lemoine Rodriguez and Lisa Lehnen: "G
 eolingual Studies - a new research direction"
UID:76ac-4fd4-a466-1902@www.dhss.phil.fau.eu
DESCRIPTION:Richard Lemoine Rodriguez and Lisa Lehnen from the Chair o
 f English Linguistics at the Julius-Maximilians-University Würzburg p
 rovide insights and impulses for a new field of research – Geolingua
 l Studies.
DTSTART:20240507T181500Z
DTEND:20240507T194500Z
LOCATION:Room C 203 (ground floor\, C-Tower)\nBismarckstraße 1\, 9105
 4 Erlangen
DTSTAMP:20260423T053426Z
END:VEVENT
END:VCALENDAR