BEGIN:VCALENDAR
METHOD:PUBLISH
PRODID:www-dhss-phil-fau-eu//Events//EN
VERSION:2.0
BEGIN:VEVENT
SUMMARY:Hackerspace Special // Tugsbayar Batbayar: Gestaltung von E-Le
 arning-Ressourcen zum Forschungsdatenmanagement
UID:8e5e-c0bb-8cc2-1904@www.dhss.phil.fau.eu
DESCRIPTION:Special dates as part of the Hackerspace to deepen practic
 al knowledge. The talks will be held in German! Further information an
 d an overview of all special dates can be found here.
DTSTART:20240516T180000Z
DTEND:20240516T203000Z
LOCATION:Room C 203 (ground floor\, C-tower)\, Bismarckstr. 1\, 91054 
 Erlangen
DTSTAMP:20260423T054057Z
END:VEVENT
END:VCALENDAR