BEGIN:VCALENDAR
METHOD:PUBLISH
PRODID:www-dhss-phil-fau-eu//Events//EN
VERSION:2.0
BEGIN:VEVENT
SUMMARY:Gavin Brookes: Obesity in the News. A Corpus-Based Critical Di
 scourse Studies Perspective
UID:2a87-d601-b8b2-2418@www.dhss.phil.fau.eu
DESCRIPTION:Find the abstract and more Information here
DTSTART:20241105T181500Z
DTEND:20241105T194500Z
LOCATION:Werner-von-Siemens-Straße 61 (Room 3.17)\, 91052 Erlangen
DTSTAMP:20260423T055119Z
END:VEVENT
END:VCALENDAR