BEGIN:VCALENDAR
METHOD:PUBLISH
PRODID:www-dhss-phil-fau-eu//Events//EN
VERSION:2.0
BEGIN:VEVENT
SUMMARY:Adrian Schneider: Smart\, green\, sustainable? The role of sus
 tainability in German smart city strategy papers.
UID:02ef-86c4-5c5d-3563@www.dhss.phil.fau.eu
DESCRIPTION:The Department of Digital Humanities and Social Studies wo
 uld like to invite you to the following talk in our DH Colloquium: Adr
 ian Schneider: »Smart\, green\, sustainable? The role of sustainabili
 ty in German smart city strategy papers.« Further information and oth
 er upcoming talks in the Colloquium can be found here.
DTSTART:20250611T161500Z
DTEND:20250611T174500Z
LOCATION:Room 3.17 (3. OG)\, Werner-von-Siemens-Straße 61\, 91052 Erlangen
DTSTAMP:20260421T010108Z
END:VEVENT
END:VCALENDAR