BEGIN:VCALENDAR
METHOD:PUBLISH
PRODID:www-dhss-phil-fau-eu//Events//EN
VERSION:2.0
BEGIN:VEVENT
SUMMARY:Dominik Kremer: Getting engaged: a call for „more than digit
 ising“ Digital Humanities
UID:fa30-dd2b-d780-3576@www.dhss.phil.fau.eu
DESCRIPTION:The Department of Digital Humanities and Social Studies wo
 uld like to invite you to the following talk in our DH Colloquium: Dom
 inik Kremer: »Getting engaged: a call for „more than digitising“ 
 Digital Humanities « Abstract When societies and communities are in n
 eed of transformation\, digital solutions often claim to be the answer
 : smart cities\, community platforms\, sentiment data and more. Howeve
 r\, a great deal of success in transforming societies still hinges on 
 shared spaces for wellbeing and interaction\, and real-world\, face-to
 -face communication. In my talk\, I reflect on my own use of digital t
 ools and practices over the last ten years\, considering whether they 
 actually served their purpose. Consequently\, I advocate for a more en
 gaged approach to Digital Humanities and social studies\, where future
  stakeholders are well-trained from the outset in not only designing a
 nd implementing digital methods\, but also acquiring profound knowledg
 e of communication\, consultation\, coaching\, and staging community-o
 riented events and experiences\, eventually hosting digital activities
 . Further information and other upcoming talks in the Colloquium can b
 e found here.
DTSTART:20250618T161500Z
DTEND:20250618T174500Z
LOCATION:Room 3.17 (3. OG)\, Werner-von-Siemens-Straße 61\, 91052 Erlangen
DTSTAMP:20260420T231934Z
END:VEVENT
END:VCALENDAR