BEGIN:VCALENDAR
METHOD:PUBLISH
PRODID:www-dhss-phil-fau-eu//Events//EN
VERSION:2.0
BEGIN:VEVENT
SUMMARY:Andreas Wagner: Future Narratives of Water
UID:cd58-427b-2a24-3581@www.dhss.phil.fau.eu
DESCRIPTION:The Department of Digital Humanities and Social Studies wo
 uld like to invite you to the following talk in our DH Colloquium: And
 reas Wagner: »Future Narratives of Water« Abstract: Water extremes\,
  namely floods\, droughts and pollution\, will be among the primary ch
 allenges posed by climate change in the coming years (UN Water\, 2020)
 . My PhD research focuses on adaptation and mitigation strategies in r
 esponse to water extremes as portrayed in fictional literature\, parti
 cularly climate fiction and youth literature. It aims to answer the qu
 estion: What are society’s visions for adapting to and mitigating th
 e challenges that climate change poses to the relationship between wat
 er and society? This talk summarizes my literature review on three key
  areas: the water-related challenges of climate change\, computational
  narrative research\, and spatial relations. These insights form the f
 oundation of my research agenda for the coming years. Further informat
 ion and other upcoming talks in the Colloquium can be found here.
DTSTART:20250709T161500Z
DTEND:20250709T174500Z
LOCATION:Room 3.17 (3. OG)\, Werner-von-Siemens-Straße 61\, 91052 Erlangen
DTSTAMP:20260420T231536Z
END:VEVENT
END:VCALENDAR