BEGIN:VCALENDAR
METHOD:PUBLISH
PRODID:www-dhss-phil-fau-eu//Events//EN
VERSION:2.0
BEGIN:VEVENT
SUMMARY:CANCELLED! Katharina Leyrer: “Value Sensitive Design: Ein An
 satz zum Umgang mit ethischen Fragestellungen im Forschungsdatenmanagm
 ent” > instead: Master thesis presentation!
UID:20b3-c104-dd9b-4325@www.dhss.phil.fau.eu
DESCRIPTION:The Department of Digital Humanities and Social Studies wo
 uld like to invite you to the following talk in our DH Colloquium Kath
 arina Leyrer: “Value Sensitive Design: Ein Ansatz zum Umgang mit eth
 ischen Fragestellungen im Forschungsdatenmanagment” Instead: Master 
 thesis presentation Further information and other upcoming talks in th
 e Colloquium can be found here.
DTSTART:20260121T160000Z
DTEND:20260121T180000Z
LOCATION:Room: 00.026 (seminar room 3)\, Nürnberger Strasse 74\, 9105
 2 Erlangen
DTSTAMP:20260423T053731Z
END:VEVENT
END:VCALENDAR