BEGIN:VCALENDAR
METHOD:PUBLISH
PRODID:www-dhss-phil-fau-eu//Events//EN
VERSION:2.0
BEGIN:VEVENT
SUMMARY:Hanna Schmück: Cross-Temporal and Cross-Linguistic Discourse 
 Patterns: From 18th century Historiography to Reddit Discussions of De
 mocracy
UID:f1ef-fdad-e298-4328@www.dhss.phil.fau.eu
DESCRIPTION:The Department of Digital Humanities and Social Studies wo
 uld like to invite you to the following talk in our DH Colloquium Hann
 a Schmück: »Cross-Temporal and Cross-Linguistic Discourse Patterns: 
 From 18th century Historiography to Reddit Discussions of Democracy« 
 Further information and other upcoming talks in the Colloquium can be 
 found here.
DTSTART:20260128T160000Z
DTEND:20260128T180000Z
LOCATION:Room: 00.026 (seminar room 3)\, Nürnberger Strasse 74\, 9105
 2 Erlangen
DTSTAMP:20260423T053350Z
END:VEVENT
END:VCALENDAR