BEGIN:VCALENDAR
METHOD:PUBLISH
PRODID:www-dhss-phil-fau-eu//Events//EN
VERSION:2.0
BEGIN:VEVENT
SUMMARY:Zsofia Pilz: „Children’s Art Perception in Museums – an 
 eye-tracking perspective“
UID:36ed-570e-3d33-4329@www.dhss.phil.fau.eu
DESCRIPTION:The Department of Digital Humanities and Social Studies wo
 uld like to invite you to the following talk in our DH Colloquium Zsof
 ia Pilz: »„Children’s Art Perception in Museums – an eye-tracki
 ng perspective“« Further information and other upcoming talks in th
 e Colloquium can be found here.
DTSTART:20260204T160000Z
DTEND:20260204T180000Z
LOCATION:Room: 00.026 (seminar room 3)\, Nürnberger Strasse 74\, 9105
 2 Erlangen
DTSTAMP:20260423T053313Z
END:VEVENT
END:VCALENDAR